BEGIN:VCALENDAR
VERSION:2.0
PRODID:-//PYVOBJECT//NONSGML Version 1//EN
BEGIN:VEVENT
UID:19322:1247
DTSTART:20130131T000000
DTEND:20130220T000000
DESCRIPTION:
DTSTAMP:20260425T134337Z
SUMMARY:Ausverkauf!
END:VEVENT
END:VCALENDAR
